BEGIN:VCALENDAR
VERSION:2.0
PRODID:-//Squarespace Inc/Squarespace 6//v6//EN
BEGIN:VEVENT
UID:5c7b52d64e17b61d26a26bcd@squarespace.com
DTSTAMP:20190530T152308Z
DTSTART:20190604T132500Z
DTEND:20190605T015500Z
SUMMARY:Monitorama: Software Supply Chain Observability with Grafeas and Kr
 itis
END:VEVENT
END:VCALENDAR
