BEGIN:VCALENDAR
VERSION:2.0
PRODID:-//Squarespace Inc/Squarespace 6//v6//EN
BEGIN:VEVENT
UID:5c7b51f2eb39313159196250@squarespace.com
DTSTAMP:20190303T040632Z
DTSTART:20190506T130000Z
DTEND:20190508T210000Z
SUMMARY:QCon São Paulo: Software Supply Chain Management with Grafeas and K
 ritis
GEO:-23.55052;-46.633309
LOCATION:Sao Paulo\, Brazil
END:VEVENT
END:VCALENDAR
