BEGIN:VCALENDAR
VERSION:2.0
PRODID:-//Squarespace Inc/Squarespace 6//v6//EN
BEGIN:VEVENT
UID:5cd457a309148c00012ba327@squarespace.com
DTSTAMP:20190509T163936Z
DTSTART:20190522T200000Z
DTEND:20190522T210000Z
SUMMARY:KubeCon Barcelona: Grafeas &amp\; Kritis Community Hour
GEO:41.385064;2.173403
LOCATION:Barcelona\, Spain
END:VEVENT
END:VCALENDAR
