BEGIN:VCALENDAR
VERSION:2.0
PRODID:-//Squarespace Inc/Squarespace 6//v6//EN
BEGIN:VEVENT
UID:5cd456cfb208fc865327a7ed@squarespace.com
DTSTAMP:20190513T213831Z
DTSTART:20190520T192000Z
DTEND:20190520T202000Z
SUMMARY:Grafeas &amp\; Kritis Ligtning Talk
GEO:41.385064;2.173403
LOCATION:Barcelona\, Spain
END:VEVENT
END:VCALENDAR
