BEGIN:VCALENDAR
VERSION:2.0
PRODID:-//Squarespace Inc/Squarespace 6//v6//EN
BEGIN:VEVENT
UID:5dbb273f47f150314a5705fd@squarespace.com
DTSTAMP:20191031T182755Z
DTSTART:20191120T193000Z
DTEND:20191120T203000Z
SUMMARY:KubeCon San Diego
END:VEVENT
END:VCALENDAR
