BEGIN:VCALENDAR
VERSION:2.0
PRODID:-//Squarespace Inc/Squarespace 6//v6//EN
BEGIN:VEVENT
UID:5d20f88aa6c12f000196e31e@squarespace.com
DTSTAMP:20190706T193911Z
DTSTART:20191111T140000Z
DTEND:20191113T220000Z
SUMMARY:QCon San Francisco
END:VEVENT
END:VCALENDAR
